BEGIN:VCALENDAR
PRODID:-//SINGPromos.com//NONSGML v1.0//EN
VERSION:2.0
CALSCALE:GREGORIAN
METHOD:PUBLISH
X-WR-CALNAME:SINGPromos.com
X-ORIGINAL-URL:https://singpromos.com
X-WR-CALDESC:Events for SINGPromos.com
BEGIN:VEVENT
DTSTART:20180228T000000
DTEND:20180301T235900
DTSTAMP:20260422T082241
CREATED:20180228T105200
LAST-MODIFIED:20180228T105200
UID:214581@https://singpromos.com
SUMMARY:24hr Deal: 43% OFF Philips Lumea Advanced IPL Hair Removal System for Body & Face! Ends 1 Mar 2018, 7am
DESCRIPTION:Enjoy up to 8 weeks* of beautifully smooth, hair free skin. Philips Lumea uses an innovative light-based technology called IPL, derived from the technology used in professional beauty salons.. For more information, visit [ https://singpromos.com/personal-care/24hr-deal-43-off-philips-lumea-advanced-ipl-hair-removal-system-for-body-face-ends-1-mar-2018-7am-214581/ ]. 
LOCATION:
URL:https://singpromos.com/personal-care/24hr-deal-43-off-philips-lumea-advanced-ipl-hair-removal-system-for-body-face-ends-1-mar-2018-7am-214581/
END:VEVENT
END:VCALENDAR