BEGIN:VCALENDAR
PRODID:-//SINGPromos.com//NONSGML v1.0//EN
VERSION:2.0
CALSCALE:GREGORIAN
METHOD:PUBLISH
X-WR-CALNAME:SINGPromos.com
X-ORIGINAL-URL:https://singpromos.com
X-WR-CALDESC:Events for SINGPromos.com
BEGIN:VEVENT
DTSTART:20180301T000000
DTEND:20180331T235900
DTSTAMP:20260422T082300
CREATED:20180228T200135
LAST-MODIFIED:20180228T200135
UID:214597@https://singpromos.com
SUMMARY:State Bank of India: Earn 1.45% p.a. - 1.50% p.a. with 12-mth time deposits! Valid from 1 - 31 Mar 2018
DESCRIPTION:Enjoy attractive interest rates by placing your money with State Bank of India. Applicable for fresh and renewal of funds during the promotional period. For more information, visit [ https://singpromos.com/banks-credit-cards/state-bank-of-india-earn-1-45-p-a-1-50-p-a-with-12-mth-time-deposits-valid-from-1-31-mar-2018-214597/ ]. 
LOCATION:
URL:https://singpromos.com/banks-credit-cards/state-bank-of-india-earn-1-45-p-a-1-50-p-a-with-12-mth-time-deposits-valid-from-1-31-mar-2018-214597/
END:VEVENT
END:VCALENDAR