BEGIN:VCALENDAR
PRODID:-//SINGPromos.com//NONSGML v1.0//EN
VERSION:2.0
CALSCALE:GREGORIAN
METHOD:PUBLISH
X-WR-CALNAME:SINGPromos.com
X-ORIGINAL-URL:https://singpromos.com
X-WR-CALDESC:Events for SINGPromos.com
BEGIN:VEVENT
DTSTART:20180303T000000
DTEND:20180304T235900
DTSTAMP:20260420T055440
CREATED:20180302T090955
LAST-MODIFIED:20180302T144021
UID:214772@https://singpromos.com
SUMMARY:Dynasty Travel Spring Bonanza fair at Suntec City Mall from 3 - 4 Mar 2018
DESCRIPTION:In need of rail passes? How about a custom holiday or a self-drive adventure? No matter the type of holiday you want, Dynasty Travel's Free & Easy has you covered!. For more information, visit [ https://singpromos.com/happenings/dynasty-travel-spring-bonanza-fair-at-suntec-city-mall-from-3-4-mar-2018-214772/ ]. 
LOCATION:038983
URL:https://singpromos.com/happenings/dynasty-travel-spring-bonanza-fair-at-suntec-city-mall-from-3-4-mar-2018-214772/
END:VEVENT
END:VCALENDAR