BEGIN:VCALENDAR
PRODID:-//SINGPromos.com//NONSGML v1.0//EN
VERSION:2.0
CALSCALE:GREGORIAN
METHOD:PUBLISH
X-WR-CALNAME:SINGPromos.com
X-ORIGINAL-URL:https://singpromos.com
X-WR-CALDESC:Events for SINGPromos.com
BEGIN:VEVENT
DTSTART:20180306T000000
DTEND:20180306T235900
DTSTAMP:20260420T214040
CREATED:20180305T120904
LAST-MODIFIED:20180305T123058
UID:214940@https://singpromos.com
SUMMARY:Scoot: Fly to over 40 destinations fr $36 all-in one-day promo! Book on 6 Mar 2018
DESCRIPTION:Scoot to Japan from $179! Have a konichi-WAA time! Fly to over 40 destinations with Scoot's one-day sale and more promo fares tomorrow, Tuesday, 7am - 2pm with Scoot's one-day promotion.. For more information, visit [ https://singpromos.com/airlines-flights/scoot-fly-to-over-40-destinations-fr-36-all-in-one-day-promo-book-on-6-mar-2018-214940/ ]. 
LOCATION:
URL:https://singpromos.com/airlines-flights/scoot-fly-to-over-40-destinations-fr-36-all-in-one-day-promo-book-on-6-mar-2018-214940/
END:VEVENT
END:VCALENDAR