BEGIN:VCALENDAR
PRODID:-//SINGPromos.com//NONSGML v1.0//EN
VERSION:2.0
CALSCALE:GREGORIAN
METHOD:PUBLISH
X-WR-CALNAME:SINGPromos.com
X-ORIGINAL-URL:https://singpromos.com
X-WR-CALDESC:Events for SINGPromos.com
BEGIN:VEVENT
DTSTART:20180310T000000
DTEND:20180311T235900
DTSTAMP:20260422T082305
CREATED:20180309T111838
LAST-MODIFIED:20180308T182144
UID:215065@https://singpromos.com
SUMMARY:CTC Travel Big Travel fair at Suntec! From 10 - 11 Mar 2018
DESCRIPTION:CTC Travel will be having a travel fair at Suntec City Mall from 10 March to 11 March 2018. For more information, visit [ https://singpromos.com/happenings/ctc-travel-big-travel-fair-at-suntec-from-10-11-mar-2018-215065/ ]. 
LOCATION:038983
URL:https://singpromos.com/happenings/ctc-travel-big-travel-fair-at-suntec-from-10-11-mar-2018-215065/
END:VEVENT
END:VCALENDAR