BEGIN:VCALENDAR
PRODID:-//SINGPromos.com//NONSGML v1.0//EN
VERSION:2.0
CALSCALE:GREGORIAN
METHOD:PUBLISH
X-WR-CALNAME:SINGPromos.com
X-ORIGINAL-URL:https://singpromos.com
X-WR-CALDESC:Events for SINGPromos.com
BEGIN:VEVENT
DTSTART:20180410T000000
DTEND:20180410T235900
DTSTAMP:20260422T082150
CREATED:20180409T111654
LAST-MODIFIED:20180408T112124
UID:215573@https://singpromos.com
SUMMARY:Ben & Jerry's Free Cone Day (FREE Ice Cream Giveaway) at Scoop Shops on 10 Apr 2018
DESCRIPTION:Ben and Jerry's FREE Cone Day is back once again on 10 April 2018, to say a big 'Thank You' to all fans in Singapore! Free Cone Day is being celebrated in Scoop Shops around the world, and they'll be giving away free ice cream. For more information, visit [ https://singpromos.com/dining-restaurants-food/ben-jerrys-free-cone-day-free-ice-cream-giveaway-at-scoop-shops-on-10-apr-2018-215573/ ]. 
LOCATION:
URL:https://singpromos.com/dining-restaurants-food/ben-jerrys-free-cone-day-free-ice-cream-giveaway-at-scoop-shops-on-10-apr-2018-215573/
END:VEVENT
END:VCALENDAR