BEGIN:VCALENDAR
PRODID:-//SINGPromos.com//NONSGML v1.0//EN
VERSION:2.0
CALSCALE:GREGORIAN
METHOD:PUBLISH
X-WR-CALNAME:SINGPromos.com
X-ORIGINAL-URL:https://singpromos.com
X-WR-CALDESC:Events for SINGPromos.com
BEGIN:VEVENT
DTSTART:20180330T000000
DTEND:20180722T235900
DTSTAMP:20260422T082315
CREATED:20180328T141139
LAST-MODIFIED:20180328T141324
UID:215696@https://singpromos.com
SUMMARY:Goodwood Park Hotel's Durian Fiesta to return from 30 Mar - 22 Jul 2018
DESCRIPTION:From 30 March to 22 July 2018, indulge in an exciting galore of tantalising durian pastries and desserts at The Deli, each filled with the richness and goodness of the finest D24 and 'Mao Shan Wang' durians.. For more information, visit [ https://singpromos.com/dining-restaurants-food/goodwood-park-hotels-durian-fiesta-to-return-from-30-mar-22-jul-2018-215696/ ]. 
LOCATION:228221
URL:https://singpromos.com/dining-restaurants-food/goodwood-park-hotels-durian-fiesta-to-return-from-30-mar-22-jul-2018-215696/
END:VEVENT
END:VCALENDAR