BEGIN:VCALENDAR
PRODID:-//SINGPromos.com//NONSGML v1.0//EN
VERSION:2.0
CALSCALE:GREGORIAN
METHOD:PUBLISH
X-WR-CALNAME:SINGPromos.com
X-ORIGINAL-URL:https://singpromos.com
X-WR-CALDESC:Events for SINGPromos.com
BEGIN:VEVENT
DTSTART:20180329T000000
DTEND:20180329T235900
DTSTAMP:20260420T172806
CREATED:20180328T120330
LAST-MODIFIED:20180328T120537
UID:215718@https://singpromos.com
SUMMARY:Joe & Dough: 1-for-1 any handcrafted beverage at ALL 11 outlets on Thursday, 29 Mar 2018
DESCRIPTION:Save the Date! Joe & Dough is turning nine soon and to celebrate this proud milestone, they're offering 1-for-1 handcrafted beverage on this Thursday, 29 March, at ALL outlets.. For more information, visit [ https://singpromos.com/dining-restaurants-food/joe-dough-1-for-1-any-handcrafted-beverage-at-all-11-outlets-on-thursday-29-mar-2018-215718/ ]. 
LOCATION:
URL:https://singpromos.com/dining-restaurants-food/joe-dough-1-for-1-any-handcrafted-beverage-at-all-11-outlets-on-thursday-29-mar-2018-215718/
END:VEVENT
END:VCALENDAR