BEGIN:VCALENDAR
PRODID:-//SINGPromos.com//NONSGML v1.0//EN
VERSION:2.0
CALSCALE:GREGORIAN
METHOD:PUBLISH
X-WR-CALNAME:SINGPromos.com
X-ORIGINAL-URL:https://singpromos.com
X-WR-CALDESC:Events for SINGPromos.com
BEGIN:VEVENT
DTSTART:20180403T000000
DTEND:20180403T235900
DTSTAMP:20260420T191345
CREATED:20180402T134421
LAST-MODIFIED:20180402T132902
UID:215918@https://singpromos.com
SUMMARY:Dunkin' Donuts: $1 regular donuts at almost ALL outlets on Tuesday, 3 Apr 2018!
DESCRIPTION:Forget gourmet. Nothing beats classic. Come down on 3 April to enjoy all regular donuts for just $1, in their exclusive 1-day-only Celebrate Classic deal!*. For more information, visit [ https://singpromos.com/dining-restaurants-food/dunkin-donuts-1-regular-donuts-at-almost-all-outlets-on-tuesday-3-apr-2018-215918/ ]. 
LOCATION:
URL:https://singpromos.com/dining-restaurants-food/dunkin-donuts-1-regular-donuts-at-almost-all-outlets-on-tuesday-3-apr-2018-215918/
END:VEVENT
END:VCALENDAR