BEGIN:VCALENDAR
PRODID:-//SINGPromos.com//NONSGML v1.0//EN
VERSION:2.0
CALSCALE:GREGORIAN
METHOD:PUBLISH
X-WR-CALNAME:SINGPromos.com
X-ORIGINAL-URL:https://singpromos.com
X-WR-CALDESC:Events for SINGPromos.com
BEGIN:VEVENT
DTSTART:20180422T000000
DTEND:20180422T235900
DTSTAMP:20260420T061928
CREATED:20180421T091835
LAST-MODIFIED:20180421T105308
UID:215944@https://singpromos.com
SUMMARY:Timezone: 100% extra double dollar promotion on 22 Apr 2018
DESCRIPTION:Timezone's Double Dollar deal is back! Buy $30 or $50 worth of game tickets and get an additional $30 or $50 worth of game tickets free. For more information, visit [ https://singpromos.com/places-of-interest/timezone-100-extra-double-dollar-promotion-on-22-apr-2018-215944/ ]. 
LOCATION:
URL:https://singpromos.com/places-of-interest/timezone-100-extra-double-dollar-promotion-on-22-apr-2018-215944/
END:VEVENT
END:VCALENDAR