BEGIN:VCALENDAR
PRODID:-//SINGPromos.com//NONSGML v1.0//EN
VERSION:2.0
CALSCALE:GREGORIAN
METHOD:PUBLISH
X-WR-CALNAME:SINGPromos.com
X-ORIGINAL-URL:https://singpromos.com
X-WR-CALDESC:Events for SINGPromos.com
BEGIN:VEVENT
DTSTART:20180403T000000
DTEND:20180405T235900
DTSTAMP:20260422T204217
CREATED:20180403T140813
LAST-MODIFIED:20180403T141010
UID:215968@https://singpromos.com
SUMMARY:Cathay Pacific: 72hr sale! Two-to-go fares fr $268 all-in return to over 15 destinations! Book by 5 Apr 2018
DESCRIPTION:For 72 hours only, grab a companion and enjoy amazing two-to-travel fares to Hong Kong, Taiwan, China, Korea, Japan, Europe and North America from$268 all-in per person.. For more information, visit [ https://singpromos.com/airlines-flights/cathay-pacific-72hr-sale-two-to-go-fares-fr-268-all-in-return-to-over-15-destinations-book-by-5-apr-2018-215968/ ]. 
LOCATION:
URL:https://singpromos.com/airlines-flights/cathay-pacific-72hr-sale-two-to-go-fares-fr-268-all-in-return-to-over-15-destinations-book-by-5-apr-2018-215968/
END:VEVENT
END:VCALENDAR