BEGIN:VCALENDAR
PRODID:-//SINGPromos.com//NONSGML v1.0//EN
VERSION:2.0
CALSCALE:GREGORIAN
METHOD:PUBLISH
X-WR-CALNAME:SINGPromos.com
X-ORIGINAL-URL:https://singpromos.com
X-WR-CALDESC:Events for SINGPromos.com
BEGIN:VEVENT
DTSTART:20180414T000000
DTEND:20180415T235900
DTSTAMP:20260420T001543
CREATED:20180413T113151
LAST-MODIFIED:20180405T154221
UID:216078@https://singpromos.com
SUMMARY:Electrolux: Up to 80% OFF Family Sale from 14 - 15 Apr 2018
DESCRIPTION:Save the Date! Electrolux Family Sale 2018 is Back! What's More, they are having Exclusive Special Hour back by popular demand!. For more information, visit [ https://singpromos.com/warehouse-sales/electrolux-up-to-80-off-family-sale-from-14-15-apr-2018-216078/ ]. 
LOCATION:
URL:https://singpromos.com/warehouse-sales/electrolux-up-to-80-off-family-sale-from-14-15-apr-2018-216078/
END:VEVENT
END:VCALENDAR