BEGIN:VCALENDAR
PRODID:-//SINGPromos.com//NONSGML v1.0//EN
VERSION:2.0
CALSCALE:GREGORIAN
METHOD:PUBLISH
X-WR-CALNAME:SINGPromos.com
X-ORIGINAL-URL:https://singpromos.com
X-WR-CALDESC:Events for SINGPromos.com
BEGIN:VEVENT
DTSTART:20180412T000000
DTEND:20180622T235900
DTSTAMP:20260422T060853
CREATED:20180412T161859
LAST-MODIFIED:20180412T162230
UID:216293@https://singpromos.com
SUMMARY:Pizza Hut: $1 large pizza when you checkout with Masterpass! Ends 22 Jun 2018
DESCRIPTION:Yes, you've heard us right! $1 for a Large Pizza* when you checkout with Masterpass, with min. $25 spent. Pay via Masterpass™ by Mastercard® to enjoy! Valid from 12 April - 22 June 2018.. For more information, visit [ https://singpromos.com/dining-restaurants-food/pizza-hut-1-large-pizza-when-you-checkout-with-masterpass-ends-22-jun-2018-216293/ ]. 
LOCATION:
URL:https://singpromos.com/dining-restaurants-food/pizza-hut-1-large-pizza-when-you-checkout-with-masterpass-ends-22-jun-2018-216293/
END:VEVENT
END:VCALENDAR