BEGIN:VCALENDAR
PRODID:-//SINGPromos.com//NONSGML v1.0//EN
VERSION:2.0
CALSCALE:GREGORIAN
METHOD:PUBLISH
X-WR-CALNAME:SINGPromos.com
X-ORIGINAL-URL:https://singpromos.com
X-WR-CALDESC:Events for SINGPromos.com
BEGIN:VEVENT
DTSTART:20180416T000000
DTEND:20180430T235900
DTSTAMP:20260420T073144
CREATED:20180416T114217
LAST-MODIFIED:20180414T124935
UID:216369@https://singpromos.com
SUMMARY:Tony Roma's: 30% to 40% off half slab of Original Baby Back Ribs at two outlets! Ends 30 Apr 2018
DESCRIPTION:Enjoy a 30% to 40% Discount on a half slab of Tony Roma's world famous original Baby Back Ribs! The usual price is $26.90++ and you can get it for only $16.14++.. For more information, visit [ https://singpromos.com/dining-restaurants-food/tony-romas-30-to-40-off-half-slab-of-original-baby-back-ribs-at-two-outlets-ends-30-apr-2018-216369/ ]. 
LOCATION:
URL:https://singpromos.com/dining-restaurants-food/tony-romas-30-to-40-off-half-slab-of-original-baby-back-ribs-at-two-outlets-ends-30-apr-2018-216369/
END:VEVENT
END:VCALENDAR