BEGIN:VCALENDAR
PRODID:-//SINGPromos.com//NONSGML v1.0//EN
VERSION:2.0
CALSCALE:GREGORIAN
METHOD:PUBLISH
X-WR-CALNAME:SINGPromos.com
X-ORIGINAL-URL:https://singpromos.com
X-WR-CALDESC:Events for SINGPromos.com
BEGIN:VEVENT
DTSTART:20180416T000000
DTEND:20180422T235900
DTSTAMP:20260420T013851
CREATED:20180416T130639
LAST-MODIFIED:20180416T130717
UID:216409@https://singpromos.com
SUMMARY:World of Sports: Up to 70% off sports warehouse sale from 16 - 22 Apr 2018
DESCRIPTION:World of Sports is having an UP TO 70% OFF atrium sale at Giant Hypermarket (Tampines), Level 3. For more information, visit [ https://singpromos.com/warehouse-sales/world-of-sports-up-to-70-off-sports-warehouse-sale-from-16-22-apr-2018-216409/ ]. 
LOCATION:528765
URL:https://singpromos.com/warehouse-sales/world-of-sports-up-to-70-off-sports-warehouse-sale-from-16-22-apr-2018-216409/
END:VEVENT
END:VCALENDAR