BEGIN:VCALENDAR
PRODID:-//SINGPromos.com//NONSGML v1.0//EN
VERSION:2.0
CALSCALE:GREGORIAN
METHOD:PUBLISH
X-WR-CALNAME:SINGPromos.com
X-ORIGINAL-URL:https://singpromos.com
X-WR-CALDESC:Events for SINGPromos.com
BEGIN:VEVENT
DTSTART:20180413T000000
DTEND:20180527T235900
DTSTAMP:20260422T082307
CREATED:20180420T191622
LAST-MODIFIED:20180529T004625
UID:216579@https://singpromos.com
SUMMARY:RHB: Earn 1.48% p.a. for 12-mth SGD fixed deposits from 13 Apr 2018
DESCRIPTION:Maximise the potential of your Savings with minimal risk. Let RHB grow your cash through attractive interest rates. Earn up to 1.48% p.a. with min S$50,000 deposit. For more information, visit [ https://singpromos.com/banks-credit-cards/rhb-earn-1-48-p-a-for-12-mth-sgd-fixed-deposits-from-13-apr-13-jul-2018-216579/ ]. 
LOCATION:
URL:https://singpromos.com/banks-credit-cards/rhb-earn-1-48-p-a-for-12-mth-sgd-fixed-deposits-from-13-apr-13-jul-2018-216579/
END:VEVENT
END:VCALENDAR