BEGIN:VCALENDAR
PRODID:-//SINGPromos.com//NONSGML v1.0//EN
VERSION:2.0
CALSCALE:GREGORIAN
METHOD:PUBLISH
X-WR-CALNAME:SINGPromos.com
X-ORIGINAL-URL:https://singpromos.com
X-WR-CALDESC:Events for SINGPromos.com
BEGIN:VEVENT
DTSTART:20180423T000000
DTEND:20180430T235900
DTSTAMP:20260420T172806
CREATED:20180422T155956
LAST-MODIFIED:20180422T160443
UID:216620@https://singpromos.com
SUMMARY:Joe & Dough: 1-for-1 Cheese Cold Brew at ALL 11 outlets from 23 - 30 Apr 2018
DESCRIPTION:Mark Your Calendar! Here's some great news before the start of the new week: Treat yourself to a Cheese Cold Brew and enjoy another on the house.. For more information, visit [ https://singpromos.com/dining-restaurants-food/joe-dough-1-for-1-cheese-cold-brew-at-all-11-outlets-from-23-30-apr-2018-216620/ ]. 
LOCATION:
URL:https://singpromos.com/dining-restaurants-food/joe-dough-1-for-1-cheese-cold-brew-at-all-11-outlets-from-23-30-apr-2018-216620/
END:VEVENT
END:VCALENDAR