BEGIN:VCALENDAR
PRODID:-//SINGPromos.com//NONSGML v1.0//EN
VERSION:2.0
CALSCALE:GREGORIAN
METHOD:PUBLISH
X-WR-CALNAME:SINGPromos.com
X-ORIGINAL-URL:https://singpromos.com
X-WR-CALDESC:Events for SINGPromos.com
BEGIN:VEVENT
DTSTART:20180521T000000
DTEND:20180527T235900
DTSTAMP:20260420T061850
CREATED:20180520T213453
LAST-MODIFIED:20180425T163731
UID:216706@https://singpromos.com
SUMMARY:UOB roadshow at Northpoint from 21 - 27 May 2018
DESCRIPTION:UOB will be having a roadshow at Northpoint. For more information, visit [ https://singpromos.com/happenings/uob-roadshow-at-northpoint-from-21-27-may-2018-216706/ ]. 
LOCATION:769098
URL:https://singpromos.com/happenings/uob-roadshow-at-northpoint-from-21-27-may-2018-216706/
END:VEVENT
END:VCALENDAR