BEGIN:VCALENDAR
PRODID:-//SINGPromos.com//NONSGML v1.0//EN
VERSION:2.0
CALSCALE:GREGORIAN
METHOD:PUBLISH
X-WR-CALNAME:SINGPromos.com
X-ORIGINAL-URL:https://singpromos.com
X-WR-CALDESC:Events for SINGPromos.com
BEGIN:VEVENT
DTSTART:20180430T000000
DTEND:20180506T235900
DTSTAMP:20260420T232628
CREATED:20180430T115328
LAST-MODIFIED:20180430T115644
UID:216828@https://singpromos.com
SUMMARY:Jetstar: All-in sale fares fr $36 to over 20 destinations for travel from May to Nov! Book by 6 May 2018
DESCRIPTION:Create your own version of #JetstarCheapestRace with these great sale fares only at jetstar.com! With travel periods starting from as early as mid May, you really don't have to plan too far out for your next getaway.. For more information, visit [ https://singpromos.com/airlines-flights/jetstar-all-in-sale-fares-fr-36-to-over-20-destinations-for-travel-from-may-to-nov-book-by-6-may-2018-216828/ ]. 
LOCATION:
URL:https://singpromos.com/airlines-flights/jetstar-all-in-sale-fares-fr-36-to-over-20-destinations-for-travel-from-may-to-nov-book-by-6-may-2018-216828/
END:VEVENT
END:VCALENDAR