BEGIN:VCALENDAR
PRODID:-//SINGPromos.com//NONSGML v1.0//EN
VERSION:2.0
CALSCALE:GREGORIAN
METHOD:PUBLISH
X-WR-CALNAME:SINGPromos.com
X-ORIGINAL-URL:https://singpromos.com
X-WR-CALDESC:Events for SINGPromos.com
BEGIN:VEVENT
DTSTART:20180501T000000
DTEND:20180531T235900
DTSTAMP:20260420T214056
CREATED:20180501T190431
LAST-MODIFIED:20180501T190431
UID:216922@https://singpromos.com
SUMMARY:Zuji: 12% OFF hotels coupon code valid till 31 May 2018
DESCRIPTION:Search over 150,000 hotels at discounted rates! Get an additional 12% OFF Hotels with this coupon code. T&Cs apply.. For more information, visit [ https://singpromos.com/vacations/zuji-12-off-hotels-coupon-code-valid-till-31-may-2018-216922/ ]. 
LOCATION:
URL:https://singpromos.com/vacations/zuji-12-off-hotels-coupon-code-valid-till-31-may-2018-216922/
END:VEVENT
END:VCALENDAR