BEGIN:VCALENDAR
PRODID:-//SINGPromos.com//NONSGML v1.0//EN
VERSION:2.0
CALSCALE:GREGORIAN
METHOD:PUBLISH
X-WR-CALNAME:SINGPromos.com
X-ORIGINAL-URL:https://singpromos.com
X-WR-CALDESC:Events for SINGPromos.com
BEGIN:VEVENT
DTSTART:20180511T000000
DTEND:20180513T235900
DTSTAMP:20260422T203104
CREATED:20180510T091004
LAST-MODIFIED:20180507T171132
UID:217126@https://singpromos.com
SUMMARY:IT Expo 2018 at Singapore Expo from 11 - 13 May 2018
DESCRIPTION:Shop for last minute mother's day gifts and electronics at hugely discounted prices!. For more information, visit [ https://singpromos.com/warehouse-sales/it-expo-2018-at-singapore-expo-from-11-13-may-2018-217126/ ]. 
LOCATION:486150
URL:https://singpromos.com/warehouse-sales/it-expo-2018-at-singapore-expo-from-11-13-may-2018-217126/
END:VEVENT
END:VCALENDAR