BEGIN:VCALENDAR
PRODID:-//SINGPromos.com//NONSGML v1.0//EN
VERSION:2.0
CALSCALE:GREGORIAN
METHOD:PUBLISH
X-WR-CALNAME:SINGPromos.com
X-ORIGINAL-URL:https://singpromos.com
X-WR-CALDESC:Events for SINGPromos.com
BEGIN:VEVENT
DTSTART:20180528T000000
DTEND:20180603T235900
DTSTAMP:20260422T201140
CREATED:20180528T205614
LAST-MODIFIED:20180528T220250
UID:217360@https://singpromos.com
SUMMARY:Circles.Life roadshow at Orchard Central from 28 May - 3 Jun 2018
DESCRIPTION:Circles.Life will be at Orchard Central. Get FREE JBL Earphones and FREE bonus data exclusively at the roadshow.. For more information, visit [ https://singpromos.com/happenings/circles-life-roadshow-at-orchard-central-from-28-may-3-jun-2018-217360/ ]. 
LOCATION:238896
URL:https://singpromos.com/happenings/circles-life-roadshow-at-orchard-central-from-28-may-3-jun-2018-217360/
END:VEVENT
END:VCALENDAR