BEGIN:VCALENDAR
PRODID:-//SINGPromos.com//NONSGML v1.0//EN
VERSION:2.0
CALSCALE:GREGORIAN
METHOD:PUBLISH
X-WR-CALNAME:SINGPromos.com
X-ORIGINAL-URL:https://singpromos.com
X-WR-CALDESC:Events for SINGPromos.com
BEGIN:VEVENT
DTSTART:20180525T000000
DTEND:20180526T235900
DTSTAMP:20260420T055440
CREATED:20180524T114112
LAST-MODIFIED:20180521T094814
UID:217530@https://singpromos.com
SUMMARY:Shiseido (NARS, Tsubaki, Anessa, Senka, ZA) up to 70% OFF beauty warehouse sale! From 25 - 26 May 2018
DESCRIPTION:Shiseido Singapore will be having their Beauty Warehouse Sale from 25 - 26 May 2018. For more information, visit [ https://singpromos.com/warehouse-sales/shiseido-nars-tsubaki-anessa-senka-za-up-to-70-off-beauty-warehouse-sale-from-25-26-may-2018-217530/ ]. 
LOCATION:039593
URL:https://singpromos.com/warehouse-sales/shiseido-nars-tsubaki-anessa-senka-za-up-to-70-off-beauty-warehouse-sale-from-25-26-may-2018-217530/
END:VEVENT
END:VCALENDAR