BEGIN:VCALENDAR
PRODID:-//SINGPromos.com//NONSGML v1.0//EN
VERSION:2.0
CALSCALE:GREGORIAN
METHOD:PUBLISH
X-WR-CALNAME:SINGPromos.com
X-ORIGINAL-URL:https://singpromos.com
X-WR-CALDESC:Events for SINGPromos.com
BEGIN:VEVENT
DTSTART:20180523T000000
DTEND:20180603T235900
DTSTAMP:20260420T190515
CREATED:20180523T143355
LAST-MODIFIED:20180523T144329
UID:217598@https://singpromos.com
SUMMARY:NDP 2018 tickets applications to open from 23 May - 3 Jun 2018
DESCRIPTION:Singapore Citizens and Permanent Residents can apply for tickets to the two Previews and National Day Parade (NDP) from 23 May to 3 June.. For more information, visit [ https://singpromos.com/places-of-interest/ndp-2018-tickets-applications-to-open-from-23-may-3-jun-2018-217598/ ]. 
LOCATION:
URL:https://singpromos.com/places-of-interest/ndp-2018-tickets-applications-to-open-from-23-may-3-jun-2018-217598/
END:VEVENT
END:VCALENDAR