BEGIN:VCALENDAR
PRODID:-//SINGPromos.com//NONSGML v1.0//EN
VERSION:2.0
CALSCALE:GREGORIAN
METHOD:PUBLISH
X-WR-CALNAME:SINGPromos.com
X-ORIGINAL-URL:https://singpromos.com
X-WR-CALDESC:Events for SINGPromos.com
BEGIN:VEVENT
DTSTART:20111221T000000
DTEND:20120102T235900
DTSTAMP:20260422T082127
CREATED:20111221T201422
LAST-MODIFIED:20120102T141740
UID:21772@https://singpromos.com
SUMMARY:Fashion Fast Forward End of Season Sale 21 Dec 2011 - 2 Jan 2012
DESCRIPTION:Fashion Fast Forward is having their End of Season Sale till 2 January 2012. Get up to 50% off when you shop at Topshop, Topman, Dorothy Perkins, Miss Selfridge and Ben Sherman.. For more information, visit [ https://singpromos.com/fashion-accessories/fashion-fast-forward-end-of-season-sale-21-dec-2011-2-jan-2012-21772/ ]. 
LOCATION:
URL:https://singpromos.com/fashion-accessories/fashion-fast-forward-end-of-season-sale-21-dec-2011-2-jan-2012-21772/
END:VEVENT
END:VCALENDAR