BEGIN:VCALENDAR
PRODID:-//SINGPromos.com//NONSGML v1.0//EN
VERSION:2.0
CALSCALE:GREGORIAN
METHOD:PUBLISH
X-WR-CALNAME:SINGPromos.com
X-ORIGINAL-URL:https://singpromos.com
X-WR-CALDESC:Events for SINGPromos.com
BEGIN:VEVENT
DTSTART:20180528T000000
DTEND:20180731T235900
DTSTAMP:20260422T082237
CREATED:20180529T074604
LAST-MODIFIED:20180529T004906
UID:217774@https://singpromos.com
SUMMARY:RHB: Earn up to 1.50% p.a. for 6/12-mth SGD fixed deposits from 28 May - 31 Jul 2018
DESCRIPTION:Maximise the potential of your Savings with minimal risk. Let RHB grow your cash through attractive interest rates.. For more information, visit [ https://singpromos.com/banks-credit-cards/rhb-earn-up-to-1-50-p-a-for-6-12-mth-sgd-fixed-deposits-from-28-may-31-jul-2018-217774/ ]. 
LOCATION:
URL:https://singpromos.com/banks-credit-cards/rhb-earn-up-to-1-50-p-a-for-6-12-mth-sgd-fixed-deposits-from-28-may-31-jul-2018-217774/
END:VEVENT
END:VCALENDAR