BEGIN:VCALENDAR
PRODID:-//SINGPromos.com//NONSGML v1.0//EN
VERSION:2.0
CALSCALE:GREGORIAN
METHOD:PUBLISH
X-WR-CALNAME:SINGPromos.com
X-ORIGINAL-URL:https://singpromos.com
X-WR-CALDESC:Events for SINGPromos.com
BEGIN:VEVENT
DTSTART:20180608T000000
DTEND:20180608T235900
DTSTAMP:20260420T055442
CREATED:20180607T112327
LAST-MODIFIED:20180606T161151
UID:217996@https://singpromos.com
SUMMARY:Krispy Kreme: 12 doughnuts for $12 (U.P. $31.20) one-day promo at Suntec on 8 Jun 2018
DESCRIPTION:Krispy Kreme will be running an exclusive 12 for $12 promotion at their Suntec outlet on 8 June 2018. For more information, visit [ https://singpromos.com/dining-restaurants-food/krispy-kreme-12-doughnuts-for-12-u-p-31-20-one-day-promo-at-suntec-on-8-jun-2018-217996/ ]. 
LOCATION:038983
URL:https://singpromos.com/dining-restaurants-food/krispy-kreme-12-doughnuts-for-12-u-p-31-20-one-day-promo-at-suntec-on-8-jun-2018-217996/
END:VEVENT
END:VCALENDAR