BEGIN:VCALENDAR
PRODID:-//SINGPromos.com//NONSGML v1.0//EN
VERSION:2.0
CALSCALE:GREGORIAN
METHOD:PUBLISH
X-WR-CALNAME:SINGPromos.com
X-ORIGINAL-URL:https://singpromos.com
X-WR-CALDESC:Events for SINGPromos.com
BEGIN:VEVENT
DTSTART:20180606T000000
DTEND:20180617T235900
DTSTAMP:20260420T021752
CREATED:20180606T172953
LAST-MODIFIED:20180606T173120
UID:218064@https://singpromos.com
SUMMARY:Save up to 50% OFF fares to over 40 destinations with Malaysia Airlines' latest promo! Book by 17 Jun 2018
DESCRIPTION:Enjoy up to 50% off fares to Kuala Lumpur, Shanghai & more with Malaysia Airlines' Mid Year Deals.. For more information, visit [ https://singpromos.com/airlines-flights/save-up-to-50-off-fares-to-over-40-destinations-with-malaysia-airlines-latest-promo-book-by-17-jun-2018-218064/ ]. 
LOCATION:
URL:https://singpromos.com/airlines-flights/save-up-to-50-off-fares-to-over-40-destinations-with-malaysia-airlines-latest-promo-book-by-17-jun-2018-218064/
END:VEVENT
END:VCALENDAR