BEGIN:VCALENDAR
PRODID:-//SINGPromos.com//NONSGML v1.0//EN
VERSION:2.0
CALSCALE:GREGORIAN
METHOD:PUBLISH
X-WR-CALNAME:SINGPromos.com
X-ORIGINAL-URL:https://singpromos.com
X-WR-CALDESC:Events for SINGPromos.com
BEGIN:VEVENT
DTSTART:20180618T000000
DTEND:20180622T235900
DTSTAMP:20260422T082133
CREATED:20180618T144639
LAST-MODIFIED:20180618T145127
UID:218252@https://singpromos.com
SUMMARY:Haagen-Dazs outlets to offer 1-FOR-1 double scoops at ALL outlets from 18 - 22 Jun 2018
DESCRIPTION:Get ready to pick your favourite Häagen-Dazs ice cream flavour and #HDPeachParty it up with Haagen-Dazs newest peach flavours because they're having a Buy One, Share One promotion!. For more information, visit [ https://singpromos.com/dining-restaurants-food/haagen-dazs-outlets-to-offer-1-for-1-double-scoops-at-all-outlets-from-18-22-jun-2018-218252/ ]. 
LOCATION:
URL:https://singpromos.com/dining-restaurants-food/haagen-dazs-outlets-to-offer-1-for-1-double-scoops-at-all-outlets-from-18-22-jun-2018-218252/
END:VEVENT
END:VCALENDAR