BEGIN:VCALENDAR
PRODID:-//SINGPromos.com//NONSGML v1.0//EN
VERSION:2.0
CALSCALE:GREGORIAN
METHOD:PUBLISH
X-WR-CALNAME:SINGPromos.com
X-ORIGINAL-URL:https://singpromos.com
X-WR-CALDESC:Events for SINGPromos.com
BEGIN:VEVENT
DTSTART:20180629T000000
DTEND:20180701T235900
DTSTAMP:20260420T020912
CREATED:20180628T123620
LAST-MODIFIED:20180626T124410
UID:218703@https://singpromos.com
SUMMARY:Baby Baby 2018 fair at Singapore Expo from 29 Jun - 1 Jul 2018
DESCRIPTION:An event for new and expectant parents, Baby Baby showcases a wide variety of products and services under one roof. For more information, visit [ https://singpromos.com/warehouse-sales/baby-baby-2018-fair-at-singapore-expo-from-29-jun-1-jul-2018-218703/ ]. 
LOCATION:486150
URL:https://singpromos.com/warehouse-sales/baby-baby-2018-fair-at-singapore-expo-from-29-jun-1-jul-2018-218703/
END:VEVENT
END:VCALENDAR