BEGIN:VCALENDAR
PRODID:-//SINGPromos.com//NONSGML v1.0//EN
VERSION:2.0
CALSCALE:GREGORIAN
METHOD:PUBLISH
X-WR-CALNAME:SINGPromos.com
X-ORIGINAL-URL:https://singpromos.com
X-WR-CALDESC:Events for SINGPromos.com
BEGIN:VEVENT
DTSTART:20180706T000000
DTEND:20180720T235900
DTSTAMP:20260420T055454
CREATED:20180706T105547
LAST-MODIFIED:20180706T110233
UID:218873@https://singpromos.com
SUMMARY:1-for-1 Marché Mövenpick Premium Coffee at Suntec outlet from 6 - 20 Jul 2018
DESCRIPTION:Coffee Lovers! Enjoy 1-for-1* Mövenpick Premium Coffee (worth $4.20+ per cup) exclusively at Marché Mövenpick Suntec City.. For more information, visit [ https://singpromos.com/dining-restaurants-food/1-for-1-marche-movenpick-premium-coffee-at-suntec-outlet-from-6-20-jul-2018-218873/ ]. 
LOCATION:038983
URL:https://singpromos.com/dining-restaurants-food/1-for-1-marche-movenpick-premium-coffee-at-suntec-outlet-from-6-20-jul-2018-218873/
END:VEVENT
END:VCALENDAR