BEGIN:VCALENDAR
PRODID:-//SINGPromos.com//NONSGML v1.0//EN
VERSION:2.0
CALSCALE:GREGORIAN
METHOD:PUBLISH
X-WR-CALNAME:SINGPromos.com
X-ORIGINAL-URL:https://singpromos.com
X-WR-CALDESC:Events for SINGPromos.com
BEGIN:VEVENT
DTSTART:20180703T000000
DTEND:20180908T235900
DTSTAMP:20260422T082126
CREATED:20180704T170104
LAST-MODIFIED:20180704T170104
UID:219033@https://singpromos.com
SUMMARY:Burger King: Enjoy additional savings with these coupons valid till 8 Sep 2018
DESCRIPTION:Print and present at your nearest Burger King outlet to save. For more information, visit [ https://singpromos.com/dining-restaurants-food/burger-king-enjoy-additional-savings-with-these-coupons-valid-till-8-sep-2018-219033/ ]. 
LOCATION:
URL:https://singpromos.com/dining-restaurants-food/burger-king-enjoy-additional-savings-with-these-coupons-valid-till-8-sep-2018-219033/
END:VEVENT
END:VCALENDAR