BEGIN:VCALENDAR
PRODID:-//SINGPromos.com//NONSGML v1.0//EN
VERSION:2.0
CALSCALE:GREGORIAN
METHOD:PUBLISH
X-WR-CALNAME:SINGPromos.com
X-ORIGINAL-URL:https://singpromos.com
X-WR-CALDESC:Events for SINGPromos.com
BEGIN:VEVENT
DTSTART:20180801T000000
DTEND:20180831T235900
DTSTAMP:20260422T082146
CREATED:20180731T114449
LAST-MODIFIED:20180727T125708
UID:219044@https://singpromos.com
SUMMARY:WRS: Buy a Singapore Zoo ticket and save 53% off Jurong Bird Park or River Safari! From 1 - 31 Aug 2018
DESCRIPTION:National Day Exclusive: Purchase Singapore Zoo admission and enjoy 53% off either Jurong Bird Park OR River Safari!. For more information, visit [ https://singpromos.com/places-of-interest/wrs-buy-singapore-zoo-ticket-and-save-53-off-jurong-bird-park-or-river-safari-ends-31-aug-2018-219044/ ]. 
LOCATION:
URL:https://singpromos.com/places-of-interest/wrs-buy-singapore-zoo-ticket-and-save-53-off-jurong-bird-park-or-river-safari-ends-31-aug-2018-219044/
END:VEVENT
END:VCALENDAR