BEGIN:VCALENDAR
PRODID:-//SINGPromos.com//NONSGML v1.0//EN
VERSION:2.0
CALSCALE:GREGORIAN
METHOD:PUBLISH
X-WR-CALNAME:SINGPromos.com
X-ORIGINAL-URL:https://singpromos.com
X-WR-CALDESC:Events for SINGPromos.com
BEGIN:VEVENT
DTSTART:20180707T000000
DTEND:20180708T235900
DTSTAMP:20260420T055455
CREATED:20180706T124928
LAST-MODIFIED:20180706T124928
UID:219098@https://singpromos.com
SUMMARY:ASA Holidays Showcase Travel Fair at Suntec from 7 - 8 Jul 2018
DESCRIPTION:Come on down this weekend for ASA Holidays SHOWCASE Travel Fair where they will be revealing some of the newest tour package holidays!. For more information, visit [ https://singpromos.com/happenings/asa-holidays-showcase-travel-fair-at-suntec-from-7-8-jul-2018-219098/ ]. 
LOCATION:038983
URL:https://singpromos.com/happenings/asa-holidays-showcase-travel-fair-at-suntec-from-7-8-jul-2018-219098/
END:VEVENT
END:VCALENDAR