BEGIN:VCALENDAR
PRODID:-//SINGPromos.com//NONSGML v1.0//EN
VERSION:2.0
CALSCALE:GREGORIAN
METHOD:PUBLISH
X-WR-CALNAME:SINGPromos.com
X-ORIGINAL-URL:https://singpromos.com
X-WR-CALDESC:Events for SINGPromos.com
BEGIN:VEVENT
DTSTART:20180820T000000
DTEND:20180826T235900
DTSTAMP:20260422T201120
CREATED:20180819T171720
LAST-MODIFIED:20180725T141848
UID:219485@https://singpromos.com
SUMMARY:Circles.Life roadshow at Orchard Central from 20 - 26 Aug 2018
DESCRIPTION:Circles.Life will be at Orchard Central. Get FREE JBL Earphones and FREE bonus data exclusively at the roadshow.. For more information, visit [ https://singpromos.com/happenings/circles-life-roadshow-at-orchard-central-from-20-26-aug-2018-219485/ ]. 
LOCATION:238896
URL:https://singpromos.com/happenings/circles-life-roadshow-at-orchard-central-from-20-26-aug-2018-219485/
END:VEVENT
END:VCALENDAR