BEGIN:VCALENDAR
PRODID:-//SINGPromos.com//NONSGML v1.0//EN
VERSION:2.0
CALSCALE:GREGORIAN
METHOD:PUBLISH
X-WR-CALNAME:SINGPromos.com
X-ORIGINAL-URL:https://singpromos.com
X-WR-CALDESC:Events for SINGPromos.com
BEGIN:VEVENT
DTSTART:20180801T000000
DTEND:20180831T235900
DTSTAMP:20260422T082116
CREATED:20180731T214146
LAST-MODIFIED:20180731T233805
UID:219593@https://singpromos.com
SUMMARY:Celebrate National Day with $5 .sg domain names! From 1 - 31 Aug 2018
DESCRIPTION:In celebration of Singapore's National Day, .SG name is available at a special price for the month of August. For more information, visit [ https://singpromos.com/web-hosting/celebrate-national-day-with-5-sg-domain-names-from-1-31-aug-2018-219593/ ]. 
LOCATION:
URL:https://singpromos.com/web-hosting/celebrate-national-day-with-5-sg-domain-names-from-1-31-aug-2018-219593/
END:VEVENT
END:VCALENDAR