BEGIN:VCALENDAR
PRODID:-//SINGPromos.com//NONSGML v1.0//EN
VERSION:2.0
CALSCALE:GREGORIAN
METHOD:PUBLISH
X-WR-CALNAME:SINGPromos.com
X-ORIGINAL-URL:https://singpromos.com
X-WR-CALDESC:Events for SINGPromos.com
BEGIN:VEVENT
DTSTART:20180802T000000
DTEND:20180815T235900
DTSTAMP:20260422T212545
CREATED:20180806T061101
LAST-MODIFIED:20180806T121155
UID:219801@https://singpromos.com
SUMMARY:M1 roadshow at YewTee Point from 2 - 15 Aug 2018
DESCRIPTION:M1 will be having a roadshow at YewTee Point.. For more information, visit [ https://singpromos.com/happenings/m1-roadshow-at-yewtee-point-from-2-15-aug-2018-219801/ ]. 
LOCATION:689578
URL:https://singpromos.com/happenings/m1-roadshow-at-yewtee-point-from-2-15-aug-2018-219801/
END:VEVENT
END:VCALENDAR