BEGIN:VCALENDAR
PRODID:-//SINGPromos.com//NONSGML v1.0//EN
VERSION:2.0
CALSCALE:GREGORIAN
METHOD:PUBLISH
X-WR-CALNAME:SINGPromos.com
X-ORIGINAL-URL:https://singpromos.com
X-WR-CALDESC:Events for SINGPromos.com
BEGIN:VEVENT
DTSTART:20180809T000000
DTEND:20180809T235900
DTSTAMP:20260422T082240
CREATED:20180809T120520
LAST-MODIFIED:20180809T120520
UID:219905@https://singpromos.com
SUMMARY:Fish & Co. offers 50% OFF Singapore Fish and Chips for one-day only on 9 Aug 2018
DESCRIPTION:Celebrate National Day together with Fish & Co.. For more information, visit [ https://singpromos.com/dining-restaurants-food/fish-co-offers-50-off-singapore-fish-and-chips-for-one-day-only-on-9-aug-2018-219905/ ]. 
LOCATION:
URL:https://singpromos.com/dining-restaurants-food/fish-co-offers-50-off-singapore-fish-and-chips-for-one-day-only-on-9-aug-2018-219905/
END:VEVENT
END:VCALENDAR