BEGIN:VCALENDAR
PRODID:-//SINGPromos.com//NONSGML v1.0//EN
VERSION:2.0
CALSCALE:GREGORIAN
METHOD:PUBLISH
X-WR-CALNAME:SINGPromos.com
X-ORIGINAL-URL:https://singpromos.com
X-WR-CALDESC:Events for SINGPromos.com
BEGIN:VEVENT
DTSTART:20180814T000000
DTEND:20180814T235900
DTSTAMP:20260422T082150
CREATED:20180813T122042
LAST-MODIFIED:20180813T122042
UID:219965@https://singpromos.com
SUMMARY:Scoot: One-day only promo sale fares fr $98 all-in to over 15 destinations on 14 Aug 2018
DESCRIPTION:Fly to over 15 destinations with discounted fares during Scoot's one-day sale promo fares this Tuesday, 7am - 2pm. For more information, visit [ https://singpromos.com/airlines-flights/scoot-one-day-only-promo-sale-fares-fr-98-all-in-to-over-15-destinations-on-14-aug-2018-219965/ ]. 
LOCATION:
URL:https://singpromos.com/airlines-flights/scoot-one-day-only-promo-sale-fares-fr-98-all-in-to-over-15-destinations-on-14-aug-2018-219965/
END:VEVENT
END:VCALENDAR