BEGIN:VCALENDAR
PRODID:-//SINGPromos.com//NONSGML v1.0//EN
VERSION:2.0
CALSCALE:GREGORIAN
METHOD:PUBLISH
X-WR-CALNAME:SINGPromos.com
X-ORIGINAL-URL:https://singpromos.com
X-WR-CALDESC:Events for SINGPromos.com
BEGIN:VEVENT
DTSTART:20180814T000000
DTEND:20181031T235900
DTSTAMP:20260422T082126
CREATED:20180814T005207
LAST-MODIFIED:20181005T193330
UID:219977@https://singpromos.com
SUMMARY:RHB: Earn up to 1.80% p.a. for 3/6/12-mth SGD fixed deposits till 31 Oct 2018
DESCRIPTION:Maximise the potential of your Savings with minimal risk. Let RHB grow your cash through attractive interest rates.. For more information, visit [ https://singpromos.com/banks-credit-cards/rhb-earn-up-to-1-80-p-a-for-3-6-12-mth-sgd-fixed-deposits-till-31-oct-2018-219977/ ]. 
LOCATION:
URL:https://singpromos.com/banks-credit-cards/rhb-earn-up-to-1-80-p-a-for-3-6-12-mth-sgd-fixed-deposits-till-31-oct-2018-219977/
END:VEVENT
END:VCALENDAR