BEGIN:VCALENDAR
PRODID:-//SINGPromos.com//NONSGML v1.0//EN
VERSION:2.0
CALSCALE:GREGORIAN
METHOD:PUBLISH
X-WR-CALNAME:SINGPromos.com
X-ORIGINAL-URL:https://singpromos.com
X-WR-CALDESC:Events for SINGPromos.com
BEGIN:VEVENT
DTSTART:20180817T000000
DTEND:20180819T235900
DTSTAMP:20260420T013751
CREATED:20180816T134848
LAST-MODIFIED:20180817T120404
UID:220130@https://singpromos.com
SUMMARY:World of Sports up to 90% OFF Mega Sports Expo Sale from 17 - 19 Aug 2018
DESCRIPTION:Back by popular demand! The Mega Sports Expo Sale is happening this weekend!. For more information, visit [ https://singpromos.com/warehouse-sales/world-of-sports-up-to-90-off-mega-sports-expo-sale-from-17-19-aug-2018-220130/ ]. 
LOCATION:486150
URL:https://singpromos.com/warehouse-sales/world-of-sports-up-to-90-off-mega-sports-expo-sale-from-17-19-aug-2018-220130/
END:VEVENT
END:VCALENDAR