BEGIN:VCALENDAR
PRODID:-//SINGPromos.com//NONSGML v1.0//EN
VERSION:2.0
CALSCALE:GREGORIAN
METHOD:PUBLISH
X-WR-CALNAME:SINGPromos.com
X-ORIGINAL-URL:https://singpromos.com
X-WR-CALDESC:Events for SINGPromos.com
BEGIN:VEVENT
DTSTART:20111224T000000
DTEND:20111230T235900
DTSTAMP:20260420T220300
CREATED:20111224T141910
LAST-MODIFIED:20111231T021324
UID:22015@https://singpromos.com
SUMMARY:Sentosa 40% Off Admission, Cable Car & Two More Attractions 24 Dec 2011
DESCRIPTION:Fun can be so easy, especially when it's in Sentosa! Enjoy up to 40% off Sentosa Admission + 2-Way Cable Car + Choose 2 more activities @ Sentosa at only $39 instead of the usual $65. Learn how to get this deal before it expires soon . For more information, visit [ https://singpromos.com/places-of-interest/sentosa-40-off-admission-cable-car-two-more-attractions-24-dec-2011-22015/ ]. 
LOCATION:
URL:https://singpromos.com/places-of-interest/sentosa-40-off-admission-cable-car-two-more-attractions-24-dec-2011-22015/
END:VEVENT
END:VCALENDAR