BEGIN:VCALENDAR
PRODID:-//SINGPromos.com//NONSGML v1.0//EN
VERSION:2.0
CALSCALE:GREGORIAN
METHOD:PUBLISH
X-WR-CALNAME:SINGPromos.com
X-ORIGINAL-URL:https://singpromos.com
X-WR-CALDESC:Events for SINGPromos.com
BEGIN:VEVENT
DTSTART:20180831T000000
DTEND:20180904T235900
DTSTAMP:20260420T013751
CREATED:20180831T194517
LAST-MODIFIED:20180831T194517
UID:220462@https://singpromos.com
SUMMARY:World of Sports up to 90% off Mega Sports Sale at Millenia Walk till 4 Sep 2018
DESCRIPTION:World of Sports Mega Sports Sale ALERT!. For more information, visit [ https://singpromos.com/warehouse-sales/world-of-sports-up-to-90-off-mega-sports-sale-at-millenia-walk-till-4-sep-2018-220462/ ]. 
LOCATION:039596
URL:https://singpromos.com/warehouse-sales/world-of-sports-up-to-90-off-mega-sports-sale-at-millenia-walk-till-4-sep-2018-220462/
END:VEVENT
END:VCALENDAR