BEGIN:VCALENDAR
PRODID:-//SINGPromos.com//NONSGML v1.0//EN
VERSION:2.0
CALSCALE:GREGORIAN
METHOD:PUBLISH
X-WR-CALNAME:SINGPromos.com
X-ORIGINAL-URL:https://singpromos.com
X-WR-CALDESC:Events for SINGPromos.com
BEGIN:VEVENT
DTSTART:20180904T000000
DTEND:20181015T235900
DTSTAMP:20260422T082313
CREATED:20180904T133347
LAST-MODIFIED:20180904T133347
UID:220564@https://singpromos.com
SUMMARY:Popeyes: NEW dine-in/takeaway discount coupon deals valid till 15 Oct 2018
DESCRIPTION:Simply flash these coupons at any Popeyes outlet to enjoy these deals!. For more information, visit [ https://singpromos.com/dining-restaurants-food/popeyes-new-dine-in-takeaway-discount-coupon-deals-valid-till-15-oct-2018-220564/ ]. 
LOCATION:
URL:https://singpromos.com/dining-restaurants-food/popeyes-new-dine-in-takeaway-discount-coupon-deals-valid-till-15-oct-2018-220564/
END:VEVENT
END:VCALENDAR