BEGIN:VCALENDAR
PRODID:-//SINGPromos.com//NONSGML v1.0//EN
VERSION:2.0
CALSCALE:GREGORIAN
METHOD:PUBLISH
X-WR-CALNAME:SINGPromos.com
X-ORIGINAL-URL:https://singpromos.com
X-WR-CALDESC:Events for SINGPromos.com
BEGIN:VEVENT
DTSTART:20180922T000000
DTEND:20180923T235900
DTSTAMP:20260420T055546
CREATED:20180921T110523
LAST-MODIFIED:20180920T181109
UID:221046@https://singpromos.com
SUMMARY:Dynasty Travel's Mid-Autumn Travel Fiesta from 22 - 23 Sep 2018
DESCRIPTION:With plenty of confirmed departures on premium escorted tours, don't miss this last chance to book them at Dynasty's Mid-Autumn Travel Fiesta. For more information, visit [ https://singpromos.com/happenings/dynasty-travels-mid-autumn-travel-fiesta-from-22-23-sep-2018-221046/ ]. 
LOCATION:038983
URL:https://singpromos.com/happenings/dynasty-travels-mid-autumn-travel-fiesta-from-22-23-sep-2018-221046/
END:VEVENT
END:VCALENDAR