BEGIN:VCALENDAR
PRODID:-//SINGPromos.com//NONSGML v1.0//EN
VERSION:2.0
CALSCALE:GREGORIAN
METHOD:PUBLISH
X-WR-CALNAME:SINGPromos.com
X-ORIGINAL-URL:https://singpromos.com
X-WR-CALDESC:Events for SINGPromos.com
BEGIN:VEVENT
DTSTART:20180921T000000
DTEND:20180923T235900
DTSTAMP:20260420T062001
CREATED:20180921T004101
LAST-MODIFIED:20180921T004101
UID:221050@https://singpromos.com
SUMMARY:Atlas premium home theatre products clearance sale from 21 - 23 Sep 2018
DESCRIPTION:Enjoy incredible deals on Premium Home Theater Systems, TVs, Speakers, Headphones and more at Atlas' clearance sale. For more information, visit [ https://singpromos.com/warehouse-sales/atlas-premium-home-theatre-products-clearance-sale-from-21-23-sep-2018-221050/ ]. 
LOCATION:039596
URL:https://singpromos.com/warehouse-sales/atlas-premium-home-theatre-products-clearance-sale-from-21-23-sep-2018-221050/
END:VEVENT
END:VCALENDAR