BEGIN:VCALENDAR
PRODID:-//SINGPromos.com//NONSGML v1.0//EN
VERSION:2.0
CALSCALE:GREGORIAN
METHOD:PUBLISH
X-WR-CALNAME:SINGPromos.com
X-ORIGINAL-URL:https://singpromos.com
X-WR-CALDESC:Events for SINGPromos.com
BEGIN:VEVENT
DTSTART:20180922T000000
DTEND:20180923T235900
DTSTAMP:20260420T055546
CREATED:20180921T121846
LAST-MODIFIED:20180921T121846
UID:221059@https://singpromos.com
SUMMARY:Chan Brothers Beyond 50 Triple Treats travel fair at Suntec from 22 - 23 Sep 2018
DESCRIPTION:Enjoy 50% OFF 2nd pax, 2nd pax flies FREE, family savings & more!. For more information, visit [ https://singpromos.com/vacations/chan-brothers-beyond-50-triple-treats-travel-fair-at-suntec-from-22-23-sep-2018-221059/ ]. 
LOCATION:038983
URL:https://singpromos.com/vacations/chan-brothers-beyond-50-triple-treats-travel-fair-at-suntec-from-22-23-sep-2018-221059/
END:VEVENT
END:VCALENDAR