BEGIN:VCALENDAR
PRODID:-//SINGPromos.com//NONSGML v1.0//EN
VERSION:2.0
CALSCALE:GREGORIAN
METHOD:PUBLISH
X-WR-CALNAME:SINGPromos.com
X-ORIGINAL-URL:https://singpromos.com
X-WR-CALDESC:Events for SINGPromos.com
BEGIN:VEVENT
DTSTART:20180922T000000
DTEND:20180923T235900
DTSTAMP:20260420T055546
CREATED:20180921T135856
LAST-MODIFIED:20180921T135856
UID:221066@https://singpromos.com
SUMMARY:ASA Holidays Never Stop Exploring Travel Fair at Suntec from 22 - 23 Sep 2018
DESCRIPTION:Let's your kids be entertained this coming school holidays!. For more information, visit [ https://singpromos.com/happenings/asa-holidays-never-stop-exploring-travel-fair-at-suntec-from-22-23-sep-2018-221066/ ]. 
LOCATION:038983
URL:https://singpromos.com/happenings/asa-holidays-never-stop-exploring-travel-fair-at-suntec-from-22-23-sep-2018-221066/
END:VEVENT
END:VCALENDAR