BEGIN:VCALENDAR
PRODID:-//SINGPromos.com//NONSGML v1.0//EN
VERSION:2.0
CALSCALE:GREGORIAN
METHOD:PUBLISH
X-WR-CALNAME:SINGPromos.com
X-ORIGINAL-URL:https://singpromos.com
X-WR-CALDESC:Events for SINGPromos.com
BEGIN:VEVENT
DTSTART:20181010T000000
DTEND:20181010T235900
DTSTAMP:20260419T233408
CREATED:20181008T104813
LAST-MODIFIED:20181009T125227
UID:221220@https://singpromos.com
SUMMARY:Hong Kong Sheng Kee Dessert is giving away free bowls of signature Wanton Mee at 15 outlets on 10 Oct 2018
DESCRIPTION:Get your chopsticks ready, Hong Kong Sheng Kee Dessert's inaugural "Free Wanton Mee Day" is here!. For more information, visit [ https://singpromos.com/dining-restaurants-food/hong-kong-sheng-kee-dessert-is-giving-away-free-bowls-of-signature-wanton-mee-at-all-outlets-on-10-oct-2018-221220/ ]. 
LOCATION:
URL:https://singpromos.com/dining-restaurants-food/hong-kong-sheng-kee-dessert-is-giving-away-free-bowls-of-signature-wanton-mee-at-all-outlets-on-10-oct-2018-221220/
END:VEVENT
END:VCALENDAR