BEGIN:VCALENDAR
PRODID:-//SINGPromos.com//NONSGML v1.0//EN
VERSION:2.0
CALSCALE:GREGORIAN
METHOD:PUBLISH
X-WR-CALNAME:SINGPromos.com
X-ORIGINAL-URL:https://singpromos.com
X-WR-CALDESC:Events for SINGPromos.com
BEGIN:VEVENT
DTSTART:20181001T000000
DTEND:20181130T235900
DTSTAMP:20260422T204217
CREATED:20181001T162905
LAST-MODIFIED:20181001T144712
UID:221304@https://singpromos.com
SUMMARY:Standard Chartered: Earn up to 1.80% p.a. when you deposit fresh funds into eSaver! From 1 Oct - 30 Nov 2018
DESCRIPTION:Earn interest on eligible deposit balance of S$1 million with no lock-in period when you bring in incremental fresh funds. For more information, visit [ https://singpromos.com/banks-credit-cards/standard-chartered-earn-up-to-1-80-p-a-when-you-deposit-fresh-funds-into-esaver-from-1-oct-30-nov-2018-221304/ ]. 
LOCATION:
URL:https://singpromos.com/banks-credit-cards/standard-chartered-earn-up-to-1-80-p-a-when-you-deposit-fresh-funds-into-esaver-from-1-oct-30-nov-2018-221304/
END:VEVENT
END:VCALENDAR